BEGIN:VCALENDAR
PRODID:-//eluceo/ical//2.0/EN
VERSION:2.0
CALSCALE:GREGORIAN
BEGIN:VEVENT
UID:event-455
DTSTAMP:20260419T153805Z
SUMMARY:BKL Gala 2026
DESCRIPTION:BKL Gala 2026 - Hét ondernemersevent van Lelystad Nog even en 
 dan is het weer zover: het welbekende BKL Gala 2026! Dit jaar staat het g
 ala in het teken van één gemeenschap\, één doel\, één toekomst. Met 
 deze thema’s sluiten we mooi aan op vorig jaar\, dat draaide om verbinde
 n\, vernieuwen en vooruitkijken. Het overkoepelende thema van dit jaar is 
 dan ook We Are One! En dat is precies wat we willen bereiken tijdens het g
 ala: samen vieren! 🌟 Thema en dresscode 🌟 Dit jaar staat het gala 
 in het teken van één gemeenschap\, één doel\, één toekomst. Met deze
  thema’s sluiten we mooi aan op vorig jaar\, dat draaide om verbinden\, 
 vernieuwen en vooruitkijken. Het overkoepelende thema van dit jaar is dan 
 ook We Are One! En dat is precies wat we willen bereiken tijdens het gala:
  samen vieren! De dresscode voor het BKL Gala 2026 is Diamonds &amp\; Pear
 ls. Een feestelijke uitstraling met een touch van diamanten of parels. Of
  natuurlijk zoveel als jij wilt. Laat je creativiteit de vrije loop en ge
 ef je gala-outfit een stralende en chique uitstraling! 🌟 Sponsor het B
 KL Gala en zet jouw bedrijf in de spotlight 🌟 Het wordt een uitdaging 
 om de geweldige editie van het BKL Gala 2025 te overtreffen\, maar we zett
 en alles op alles om dat voor elkaar te krijgen. Daar komt jouw hulp goed 
 van pas! Je kunt namelijk sponsor worden van het BKL Gala 2026. Het is d
 é kans om jouw bedrijf in de schijnwerpers te zetten tijdens hét onderne
 mersevent van het jaar. Het moment om jouw naam te laten stralen en te lat
 en zien dat jouw bedrijf een trotse supporter is van het BKL Gala 2026.  
 Word sponsor Bekijk hier onze huidige sponsoren. 🌟 BKL Gala kaarten 
 reserveren &amp\; ophalen 🌟 Als BKL-lid ontvang je vanuit je lidmaatsc
 hap twee entreekaarten (seniorleden één kaart). Deze gratis kaarten dien
  je vooraf te reserveren\, uitsluitend via de BKL-website. Reserveer hier
  je kaarten. Meer kaarten zijn verkrijgbaar via de sponsorpakketten. 
 🌟 Genomineerden van dit jaar 🌟 De genomineerde bedrijven voor de B
 KL Trofee en BKL Award zijn bekend gemaakt door de commissie tijdens de Vi
 p Sponsorborrel bij MJ Grand Café. Wij feliciteren deze mooie bedrijven 
 met hun nominatie! De BKL Trofee is een juryprijs voor dé onderneming van
  het jaar in Lelystad. De BKL Award is er voor bedrijven met maximaal 15 m
 edewerkers en wordt\, onder de leden\, door de leden van BKL verkozen. De 
 verkiezingen vinden plaats tijdens het BKL Gala op 10 januari. BKL Trofee:
  Micronic BV Alles voor Padel Holland Composites BV BKL Award: Fidata VVE
  Beheer BV Livorno BV Op Goud Geluk Claim dus snel jouw tickets!
DTSTART:20260110T190000Z
DTEND:20260110T225900Z
END:VEVENT
BEGIN:VTIMEZONE
TZID:UTC
BEGIN:STANDARD
DTSTART:20260110T190000
TZNAME:UTC
TZOFFSETTO:+0000
TZOFFSETFROM:+0000
END:STANDARD
END:VTIMEZONE
END:VCALENDAR
