BEGIN:VCALENDAR
PRODID:-//eluceo/ical//2.0/EN
VERSION:2.0
CALSCALE:GREGORIAN
BEGIN:VEVENT
UID:event-459
DTSTAMP:20260419T153800Z
SUMMARY:BKL 50 jubileumfeest
DESCRIPTION:Bedrijfskring Lelystad is jarig! De BKL bestaat dit jaar 50 jaa
 r en dat vieren we graag met al onze leden tijdens het BKL50 Jubileumfees
 t. Bereid je voor op een een avond vol muziek\, herinneringen\, verrassing
 en en natuurlijk: een toost op 50 jaar ondernemerschap. Deze sfeervolle lo
 catie staat garant voor een avond vol gezelligheid\, muziek\, lekkere hapj
 es en verrassingen. Of je nu komt om te dansen\, te netwerken of gewoon te
  genieten van een drankje – dit wil je niet missen! Laten we samen het g
 las heffen op 50 jaar succes en de toekomst! Zet deze avond in je agenda e
 n meld je aan!   Kaarten De toegang is exclusief voor leden. Per lid zij
 n 2 gratis kaarten beschikbaar. Wil je extra kaarten voor medewerkers? •
     Elk lid kan maximaal 2 extra kaarten aanvragen voor medewerkers. •
     Kosten: €25\,- per kaart (excl. btw). •    Let op: er is een b
 eperkt aantal extra kaarten beschikbaar. Deze extra kaarten kunnen onder v
 oorbehoud worden aangevraagd via: info@bedrijfskring.nl •    De beschi
 kbaarheid hangt af van het aantal gereserveerde gratis kaarten. We houden 
 je hiervan op de hoogte. Tip: Reserveer je gratis kaarten op tijd om verz
 ekerd te zijn van een plek!   Dresscode: Come as you are  Voor dit event
  nodigen we je uit om te komen zoals je bent. Gewoon: jij in jouw favoriet
 e kleding. We kiezen bewust voor Come as you are\, omdat we geloven dat je
  op je mooist en sterkst bent als je je comfortabel voelt. Of je nu kiest 
 voor een spijkerbroek\, een vrolijke jurk\, sneakers\, een net pak of iets
  heel anders – het mag allemaal. Het gaat ons niet om wat je draagt\, ma
 ar om wie je bent. Jij bent welkom. Precies zoals je bent. We kijken er en
 orm naar uit om je aanmelding te ontvangen!
DTSTART:20250912T183000Z
DTEND:20250912T223000Z
LOCATION:Van der Valk Lelystad\, The Base (de ingang bevindt zich links van
  het hotel)
END:VEVENT
BEGIN:VTIMEZONE
TZID:UTC
BEGIN:STANDARD
DTSTART:20250912T183000
TZNAME:UTC
TZOFFSETTO:+0000
TZOFFSETFROM:+0000
END:STANDARD
END:VTIMEZONE
END:VCALENDAR
