BEGIN:VCALENDAR
PRODID:-//eluceo/ical//2.0/EN
VERSION:2.0
CALSCALE:GREGORIAN
BEGIN:VEVENT
UID:event-473
DTSTAMP:20260419T153027Z
SUMMARY:Captainsontbijt - 17 november 2026 (op uitnodiging)
DESCRIPTION:
DTSTART:20261117T063000Z
DTEND:20261117T083000Z
LOCATION:Locatie en programma volgt
END:VEVENT
BEGIN:VTIMEZONE
TZID:UTC
BEGIN:STANDARD
DTSTART:20261117T063000
TZNAME:UTC
TZOFFSETTO:+0000
TZOFFSETFROM:+0000
END:STANDARD
END:VTIMEZONE
END:VCALENDAR
