BEGIN:VCALENDAR
PRODID:-//eluceo/ical//2.0/EN
VERSION:2.0
CALSCALE:GREGORIAN
BEGIN:VEVENT
UID:event-567
DTSTAMP:20260419T153622Z
SUMMARY:Bedrijfsbezoek Fashion Outlet Batavia Stad - 7 mei 2026
DESCRIPTION:
DTSTART:20260507T143000Z
DTEND:20260507T180000Z
LOCATION:Bataviastad Lelystad
END:VEVENT
BEGIN:VTIMEZONE
TZID:UTC
BEGIN:STANDARD
DTSTART:20260507T143000
TZNAME:UTC
TZOFFSETTO:+0000
TZOFFSETFROM:+0000
END:STANDARD
END:VTIMEZONE
END:VCALENDAR
